BEGIN:VCALENDAR
VERSION:2.0
PRODID:-//Williamsburg Township Ohio - ECPv6.15.11//NONSGML v1.0//EN
CALSCALE:GREGORIAN
METHOD:PUBLISH
X-ORIGINAL-URL:https://williamsburgtownship.org
X-WR-CALDESC:Events for Williamsburg Township Ohio
REFRESH-INTERVAL;VALUE=DURATION:PT1H
X-Robots-Tag:noindex
X-PUBLISHED-TTL:PT1H
BEGIN:VTIMEZONE
TZID:America/New_York
BEGIN:DAYLIGHT
TZOFFSETFROM:-0500
TZOFFSETTO:-0400
TZNAME:EDT
DTSTART:20230312T070000
END:DAYLIGHT
BEGIN:STANDARD
TZOFFSETFROM:-0400
TZOFFSETTO:-0500
TZNAME:EST
DTSTART:20231105T060000
END:STANDARD
BEGIN:DAYLIGHT
TZOFFSETFROM:-0500
TZOFFSETTO:-0400
TZNAME:EDT
DTSTART:20240310T070000
END:DAYLIGHT
BEGIN:STANDARD
TZOFFSETFROM:-0400
TZOFFSETTO:-0500
TZNAME:EST
DTSTART:20241103T060000
END:STANDARD
BEGIN:DAYLIGHT
TZOFFSETFROM:-0500
TZOFFSETTO:-0400
TZNAME:EDT
DTSTART:20250309T070000
END:DAYLIGHT
BEGIN:STANDARD
TZOFFSETFROM:-0400
TZOFFSETTO:-0500
TZNAME:EST
DTSTART:20251102T060000
END:STANDARD
END:VTIMEZONE
BEGIN:VEVENT
DTSTART;TZID=America/New_York:20241015T180000
DTEND;TZID=America/New_York:20241015T210000
DTSTAMP:20260423T140032
CREATED:20241015T140610Z
LAST-MODIFIED:20241015T140644Z
UID:3041-1729015200-1729026000@williamsburgtownship.org
SUMMARY:Zoning Commission ZC#2-24
DESCRIPTION:PUBLIC NOTICE ZC 02-24
URL:https://williamsburgtownship.org/event/zoning-commission-zc2-24/
LOCATION:Williamsburg EMS/Fire\, 915 West Main Street\, Williamsburg\, OH\, 45176\, United States
ORGANIZER;CN="Brian Tatman":MAILTO:btatman@williamsburgtownship.org
END:VEVENT
END:VCALENDAR