BEGIN:VCALENDAR
VERSION:2.0
PRODID:-//Williamsburg Township Ohio - ECPv6.15.11//NONSGML v1.0//EN
CALSCALE:GREGORIAN
METHOD:PUBLISH
X-ORIGINAL-URL:https://williamsburgtownship.org
X-WR-CALDESC:Events for Williamsburg Township Ohio
REFRESH-INTERVAL;VALUE=DURATION:PT1H
X-Robots-Tag:noindex
X-PUBLISHED-TTL:PT1H
BEGIN:VTIMEZONE
TZID:America/New_York
BEGIN:DAYLIGHT
TZOFFSETFROM:-0500
TZOFFSETTO:-0400
TZNAME:EDT
DTSTART:20170312T070000
END:DAYLIGHT
BEGIN:STANDARD
TZOFFSETFROM:-0400
TZOFFSETTO:-0500
TZNAME:EST
DTSTART:20171105T060000
END:STANDARD
BEGIN:DAYLIGHT
TZOFFSETFROM:-0500
TZOFFSETTO:-0400
TZNAME:EDT
DTSTART:20180311T070000
END:DAYLIGHT
BEGIN:STANDARD
TZOFFSETFROM:-0400
TZOFFSETTO:-0500
TZNAME:EST
DTSTART:20181104T060000
END:STANDARD
BEGIN:DAYLIGHT
TZOFFSETFROM:-0500
TZOFFSETTO:-0400
TZNAME:EDT
DTSTART:20190310T070000
END:DAYLIGHT
BEGIN:STANDARD
TZOFFSETFROM:-0400
TZOFFSETTO:-0500
TZNAME:EST
DTSTART:20191103T060000
END:STANDARD
END:VTIMEZONE
BEGIN:VEVENT
DTSTART;TZID=America/New_York:20180529T190000
DTEND;TZID=America/New_York:20180529T193000
DTSTAMP:20260422T130903
CREATED:20180518T124953Z
LAST-MODIFIED:20180518T124953Z
UID:1112-1527620400-1527622200@williamsburgtownship.org
SUMMARY:Zoning Meeting ZBA 1-18
DESCRIPTION:Public Notice ZBA 1-18
URL:https://williamsburgtownship.org/event/zoning-meeting-zba-1-18/
LOCATION:Williamsburg Township Hall\, 4025 Alexander Lane\, Batavia\, OH\, 45103\, United States
ORGANIZER;CN="Yvonne Malott":MAILTO:ymalott@williamsburgtownship.org
END:VEVENT
END:VCALENDAR