BEGIN:VCALENDAR
VERSION:2.0
PRODID:-//Williamsburg Township Ohio - ECPv6.15.11//NONSGML v1.0//EN
CALSCALE:GREGORIAN
METHOD:PUBLISH
X-ORIGINAL-URL:https://williamsburgtownship.org
X-WR-CALDESC:Events for Williamsburg Township Ohio
REFRESH-INTERVAL;VALUE=DURATION:PT1H
X-Robots-Tag:noindex
X-PUBLISHED-TTL:PT1H
BEGIN:VTIMEZONE
TZID:America/New_York
BEGIN:DAYLIGHT
TZOFFSETFROM:-0500
TZOFFSETTO:-0400
TZNAME:EDT
DTSTART:20170312T070000
END:DAYLIGHT
BEGIN:STANDARD
TZOFFSETFROM:-0400
TZOFFSETTO:-0500
TZNAME:EST
DTSTART:20171105T060000
END:STANDARD
BEGIN:DAYLIGHT
TZOFFSETFROM:-0500
TZOFFSETTO:-0400
TZNAME:EDT
DTSTART:20180311T070000
END:DAYLIGHT
BEGIN:STANDARD
TZOFFSETFROM:-0400
TZOFFSETTO:-0500
TZNAME:EST
DTSTART:20181104T060000
END:STANDARD
BEGIN:DAYLIGHT
TZOFFSETFROM:-0500
TZOFFSETTO:-0400
TZNAME:EDT
DTSTART:20190310T070000
END:DAYLIGHT
BEGIN:STANDARD
TZOFFSETFROM:-0400
TZOFFSETTO:-0500
TZNAME:EST
DTSTART:20191103T060000
END:STANDARD
END:VTIMEZONE
BEGIN:VEVENT
DTSTART;TZID=America/New_York:20180509T190000
DTEND;TZID=America/New_York:20180509T200000
DTSTAMP:20260420T090210
CREATED:20180427T172005Z
LAST-MODIFIED:20180427T172005Z
UID:1096-1525892400-1525896000@williamsburgtownship.org
SUMMARY:Zoning Hearing ZC#1-18
DESCRIPTION:PUBLIC NOTICE ZC# 1-18 on 05-09-18
URL:https://williamsburgtownship.org/event/zoning-hearing-zc1-18/
LOCATION:Williamsburg Township Hall\, 4025 Alexander Lane\, Batavia\, OH\, 45103\, United States
ORGANIZER;CN="Yvonne Malott":MAILTO:ymalott@williamsburgtownship.org
END:VEVENT
END:VCALENDAR